BEGIN:VCALENDAR
VERSION:2.0
PRODID:-//Deutscher Hundebund - ECPv6.15.20//NONSGML v1.0//EN
CALSCALE:GREGORIAN
METHOD:PUBLISH
X-ORIGINAL-URL:https://hundebund.org
X-WR-CALDESC:Veranstaltungen für Deutscher Hundebund
REFRESH-INTERVAL;VALUE=DURATION:PT1H
X-Robots-Tag:noindex
X-PUBLISHED-TTL:PT1H
BEGIN:VTIMEZONE
TZID:Europe/Berlin
BEGIN:DAYLIGHT
TZOFFSETFROM:+0100
TZOFFSETTO:+0200
TZNAME:CEST
DTSTART:20240331T010000
END:DAYLIGHT
BEGIN:STANDARD
TZOFFSETFROM:+0200
TZOFFSETTO:+0100
TZNAME:CET
DTSTART:20241027T010000
END:STANDARD
BEGIN:DAYLIGHT
TZOFFSETFROM:+0100
TZOFFSETTO:+0200
TZNAME:CEST
DTSTART:20250330T010000
END:DAYLIGHT
BEGIN:STANDARD
TZOFFSETFROM:+0200
TZOFFSETTO:+0100
TZNAME:CET
DTSTART:20251026T010000
END:STANDARD
BEGIN:DAYLIGHT
TZOFFSETFROM:+0100
TZOFFSETTO:+0200
TZNAME:CEST
DTSTART:20260329T010000
END:DAYLIGHT
BEGIN:STANDARD
TZOFFSETFROM:+0200
TZOFFSETTO:+0100
TZNAME:CET
DTSTART:20261025T010000
END:STANDARD
END:VTIMEZONE
BEGIN:VEVENT
DTSTART;TZID=Europe/Berlin:20250118T000000
DTEND;TZID=Europe/Berlin:20250119T000000
DTSTAMP:20260424T085419
CREATED:20250710T180353Z
LAST-MODIFIED:20250710T180353Z
UID:16-1737158400-1737244800@hundebund.org
SUMMARY:DOGlive Münster
DESCRIPTION:Die DOGlive Münster ist der perfekte Jahresauftakt für Hundeliebhaber. Hier verschmelzen Messe\, Event\, Shopping und Hundesport zu einem einzigartigen Erlebnis. Neben einer riesigen Shoppingwelt für Hundezubehör und -futter erwarten dich Workshops\, Vorträge\, Rassepräsentationen\, Mitmachaktionen\, Hundesportarten zum Ausprobieren und die spektakuläre DOGlive Gala mit Show\, Sport und Comedy. Ein Muss für alle\, die sich inspirieren lassen und Neues entdecken möchten – egal ob mit oder ohne Hund.
URL:https://hundebund.org/veranstaltungen/doglive-muenster/
END:VEVENT
END:VCALENDAR