BEGIN:VCALENDAR
VERSION:2.0
PRODID:-//Deutscher Hundebund - ECPv6.15.20//NONSGML v1.0//EN
CALSCALE:GREGORIAN
METHOD:PUBLISH
X-ORIGINAL-URL:https://hundebund.org
X-WR-CALDESC:Veranstaltungen für Deutscher Hundebund
REFRESH-INTERVAL;VALUE=DURATION:PT1H
X-Robots-Tag:noindex
X-PUBLISHED-TTL:PT1H
BEGIN:VTIMEZONE
TZID:Europe/Berlin
BEGIN:DAYLIGHT
TZOFFSETFROM:+0100
TZOFFSETTO:+0200
TZNAME:CEST
DTSTART:20240331T010000
END:DAYLIGHT
BEGIN:STANDARD
TZOFFSETFROM:+0200
TZOFFSETTO:+0100
TZNAME:CET
DTSTART:20241027T010000
END:STANDARD
BEGIN:DAYLIGHT
TZOFFSETFROM:+0100
TZOFFSETTO:+0200
TZNAME:CEST
DTSTART:20250330T010000
END:DAYLIGHT
BEGIN:STANDARD
TZOFFSETFROM:+0200
TZOFFSETTO:+0100
TZNAME:CET
DTSTART:20251026T010000
END:STANDARD
BEGIN:DAYLIGHT
TZOFFSETFROM:+0100
TZOFFSETTO:+0200
TZNAME:CEST
DTSTART:20260329T010000
END:DAYLIGHT
BEGIN:STANDARD
TZOFFSETFROM:+0200
TZOFFSETTO:+0100
TZNAME:CET
DTSTART:20261025T010000
END:STANDARD
END:VTIMEZONE
BEGIN:VEVENT
DTSTART;TZID=Europe/Berlin:20250128T000000
DTEND;TZID=Europe/Berlin:20250202T000000
DTSTAMP:20260424T072910
CREATED:20250710T180353Z
LAST-MODIFIED:20250710T180353Z
UID:18-1738022400-1738454400@hundebund.org
SUMMARY:Jagd & Hund Dortmund
DESCRIPTION:Europas größte Jagdmesse ist auch für Hundefreunde ein echtes Highlight. Neben Fachvorträgen und Produktneuheiten rund um Jagd und Natur stehen Jagdhundepräsentationen\, Seminare zur Hundeausbildung und spannende Vorführungen im Mittelpunkt. Die Messe bietet eine Fülle an Informationen für alle\, die sich für Jagdhunde\, deren Ausbildung und Ausrüstung interessieren. Ein vielseitiges Rahmenprogramm macht die Jagd & Hund auch für Familien attraktiv.
URL:https://hundebund.org/veranstaltungen/jagd-hund-dortmund/
END:VEVENT
END:VCALENDAR