BEGIN:VCALENDAR
VERSION:2.0
PRODID:-//Deutscher Hundebund - ECPv6.15.20//NONSGML v1.0//EN
CALSCALE:GREGORIAN
METHOD:PUBLISH
X-ORIGINAL-URL:https://hundebund.org
X-WR-CALDESC:Veranstaltungen für Deutscher Hundebund
REFRESH-INTERVAL;VALUE=DURATION:PT1H
X-Robots-Tag:noindex
X-PUBLISHED-TTL:PT1H
BEGIN:VTIMEZONE
TZID:Europe/Berlin
BEGIN:DAYLIGHT
TZOFFSETFROM:+0100
TZOFFSETTO:+0200
TZNAME:CEST
DTSTART:20240331T010000
END:DAYLIGHT
BEGIN:STANDARD
TZOFFSETFROM:+0200
TZOFFSETTO:+0100
TZNAME:CET
DTSTART:20241027T010000
END:STANDARD
BEGIN:DAYLIGHT
TZOFFSETFROM:+0100
TZOFFSETTO:+0200
TZNAME:CEST
DTSTART:20250330T010000
END:DAYLIGHT
BEGIN:STANDARD
TZOFFSETFROM:+0200
TZOFFSETTO:+0100
TZNAME:CET
DTSTART:20251026T010000
END:STANDARD
BEGIN:DAYLIGHT
TZOFFSETFROM:+0100
TZOFFSETTO:+0200
TZNAME:CEST
DTSTART:20260329T010000
END:DAYLIGHT
BEGIN:STANDARD
TZOFFSETFROM:+0200
TZOFFSETTO:+0100
TZNAME:CET
DTSTART:20261025T010000
END:STANDARD
END:VTIMEZONE
BEGIN:VEVENT
DTSTART;TZID=Europe/Berlin:20250523T000000
DTEND;TZID=Europe/Berlin:20250525T000000
DTSTAMP:20260424T031105
CREATED:20250710T180353Z
LAST-MODIFIED:20250710T180353Z
UID:17-1747958400-1748131200@hundebund.org
SUMMARY:Dogs & Fun Dortmund
DESCRIPTION:Die Dogs & Fun verwandelt die Dortmunder Westfalenhallen in ein riesiges Hundeparadies. Hier treffen sich Züchter\, Dienstleister\, Händler und Hundesportler. Besucher erleben Rassepräsentationen\, ein abwechslungsreiches Showprogramm\, Mitmachaktionen wie Agility-Parcours\, Dog-Dancing\, Workshops und zahlreiche Verkaufsstände. Die Messe ist bekannt für ihre familiäre Atmosphäre und bietet sowohl für erfahrene Hundehalter als auch für Neulinge viel Wissenswertes rund um Haltung\, Pflege und Training.
URL:https://hundebund.org/veranstaltungen/dogs-fun-dortmund/
END:VEVENT
END:VCALENDAR