BEGIN:VCALENDAR
VERSION:2.0
PRODID:-//Deutscher Hundebund - ECPv6.15.20//NONSGML v1.0//EN
CALSCALE:GREGORIAN
METHOD:PUBLISH
X-ORIGINAL-URL:https://hundebund.org
X-WR-CALDESC:Veranstaltungen für Deutscher Hundebund
REFRESH-INTERVAL;VALUE=DURATION:PT1H
X-Robots-Tag:noindex
X-PUBLISHED-TTL:PT1H
BEGIN:VTIMEZONE
TZID:Europe/Berlin
BEGIN:DAYLIGHT
TZOFFSETFROM:+0100
TZOFFSETTO:+0200
TZNAME:CEST
DTSTART:20240331T010000
END:DAYLIGHT
BEGIN:STANDARD
TZOFFSETFROM:+0200
TZOFFSETTO:+0100
TZNAME:CET
DTSTART:20241027T010000
END:STANDARD
BEGIN:DAYLIGHT
TZOFFSETFROM:+0100
TZOFFSETTO:+0200
TZNAME:CEST
DTSTART:20250330T010000
END:DAYLIGHT
BEGIN:STANDARD
TZOFFSETFROM:+0200
TZOFFSETTO:+0100
TZNAME:CET
DTSTART:20251026T010000
END:STANDARD
BEGIN:DAYLIGHT
TZOFFSETFROM:+0100
TZOFFSETTO:+0200
TZNAME:CEST
DTSTART:20260329T010000
END:DAYLIGHT
BEGIN:STANDARD
TZOFFSETFROM:+0200
TZOFFSETTO:+0100
TZNAME:CET
DTSTART:20261025T010000
END:STANDARD
END:VTIMEZONE
BEGIN:VEVENT
DTSTART;TZID=Europe/Berlin:20250802T000000
DTEND;TZID=Europe/Berlin:20250803T000000
DTSTAMP:20260423T212329
CREATED:20250710T180409Z
LAST-MODIFIED:20250710T180409Z
UID:34-1754092800-1754179200@hundebund.org
SUMMARY:Ruhrpott-Hundemesse Duisburg
DESCRIPTION:Die Ruhrpott-Hundemesse ist eine regionale Messe mit Informationen\, Angeboten und Shows rund um den Hund. Sie findet jährlich im Kultur- und Bürgerzentrum Steinhof in Duisburg statt und bietet ein buntes Programm für Hundebesitzer aus der Region.
URL:https://hundebund.org/veranstaltungen/ruhrpott-hundemesse-duisburg/
END:VEVENT
BEGIN:VEVENT
DTSTART;TZID=Europe/Berlin:20250831T000000
DTEND;TZID=Europe/Berlin:20250831T000000
DTSTAMP:20260423T212329
CREATED:20250710T180354Z
LAST-MODIFIED:20250710T180354Z
UID:25-1756598400-1756598400@hundebund.org
SUMMARY:Die Hundemesse Brühl
DESCRIPTION:Die Hundemesse in Brühl ist ein großes regionales Event mit einem umfassenden Programm rund um den Hund. Besucher erwarten zahlreiche Aussteller\, Mitmachaktionen und Informationen zur Beschäftigung mit dem Hund. Ein Treffpunkt für Innovation\, Information und Unterhaltung mit Fokus auf praxisnahe Tipps für den Alltag mit Hund.
URL:https://hundebund.org/veranstaltungen/die-hundemesse-bruehl/
END:VEVENT
END:VCALENDAR