BEGIN:VCALENDAR
VERSION:2.0
PRODID:-//Deutscher Hundebund - ECPv6.15.20//NONSGML v1.0//EN
CALSCALE:GREGORIAN
METHOD:PUBLISH
X-ORIGINAL-URL:https://hundebund.org
X-WR-CALDESC:Veranstaltungen für Deutscher Hundebund
REFRESH-INTERVAL;VALUE=DURATION:PT1H
X-Robots-Tag:noindex
X-PUBLISHED-TTL:PT1H
BEGIN:VTIMEZONE
TZID:Europe/Berlin
BEGIN:DAYLIGHT
TZOFFSETFROM:+0100
TZOFFSETTO:+0200
TZNAME:CEST
DTSTART:20240331T010000
END:DAYLIGHT
BEGIN:STANDARD
TZOFFSETFROM:+0200
TZOFFSETTO:+0100
TZNAME:CET
DTSTART:20241027T010000
END:STANDARD
BEGIN:DAYLIGHT
TZOFFSETFROM:+0100
TZOFFSETTO:+0200
TZNAME:CEST
DTSTART:20250330T010000
END:DAYLIGHT
BEGIN:STANDARD
TZOFFSETFROM:+0200
TZOFFSETTO:+0100
TZNAME:CET
DTSTART:20251026T010000
END:STANDARD
BEGIN:DAYLIGHT
TZOFFSETFROM:+0100
TZOFFSETTO:+0200
TZNAME:CEST
DTSTART:20260329T010000
END:DAYLIGHT
BEGIN:STANDARD
TZOFFSETFROM:+0200
TZOFFSETTO:+0100
TZNAME:CET
DTSTART:20261025T010000
END:STANDARD
END:VTIMEZONE
BEGIN:VEVENT
DTSTART;TZID=Europe/Berlin:20250906T000000
DTEND;TZID=Europe/Berlin:20250907T000000
DTSTAMP:20260423T195601
CREATED:20250710T180409Z
LAST-MODIFIED:20250710T180409Z
UID:32-1757116800-1757203200@hundebund.org
SUMMARY:Mein Hund Messe Schloss Oelber
DESCRIPTION:Die Messe ‚Mein Hund‘ auf Schloss Oelber bietet ein besonderes Ambiente mit vielfältigem Rahmenprogramm\, Dogdance-Turnier und einer großen Auswahl an individuellem Hundezubehör. Die historischen Gebäude und großzügigen Freiflächen machen das Event zu einem Erlebnis für die ganze Familie.
URL:https://hundebund.org/veranstaltungen/mein-hund-messe-schloss-oelber/
END:VEVENT
END:VCALENDAR